BEGIN:VCALENDAR
VERSION:2.0
PRODID:-//ENBIX - ECPv6.15.17.1//NONSGML v1.0//EN
CALSCALE:GREGORIAN
METHOD:PUBLISH
X-WR-CALNAME:ENBIX
X-ORIGINAL-URL:https://www.enbix.ca
X-WR-CALDESC:Events for ENBIX
REFRESH-INTERVAL;VALUE=DURATION:PT1H
X-Robots-Tag:noindex
X-PUBLISHED-TTL:PT1H
BEGIN:VTIMEZONE
TZID:America/Edmonton
BEGIN:DAYLIGHT
TZOFFSETFROM:-0700
TZOFFSETTO:-0600
TZNAME:MDT
DTSTART:20250309T090000
END:DAYLIGHT
BEGIN:STANDARD
TZOFFSETFROM:-0600
TZOFFSETTO:-0700
TZNAME:MST
DTSTART:20251102T080000
END:STANDARD
BEGIN:DAYLIGHT
TZOFFSETFROM:-0700
TZOFFSETTO:-0600
TZNAME:MDT
DTSTART:20260308T090000
END:DAYLIGHT
BEGIN:STANDARD
TZOFFSETFROM:-0600
TZOFFSETTO:-0700
TZNAME:MST
DTSTART:20261101T080000
END:STANDARD
BEGIN:DAYLIGHT
TZOFFSETFROM:-0700
TZOFFSETTO:-0600
TZNAME:MDT
DTSTART:20270314T090000
END:DAYLIGHT
BEGIN:STANDARD
TZOFFSETFROM:-0600
TZOFFSETTO:-0700
TZNAME:MST
DTSTART:20271107T080000
END:STANDARD
END:VTIMEZONE
BEGIN:VEVENT
DTSTART;TZID=America/Edmonton:20260415T160000
DTEND;TZID=America/Edmonton:20260415T173000
DTSTAMP:20260421T115520
CREATED:20260304T162435Z
LAST-MODIFIED:20260309T204020Z
UID:10000231-1776268800-1776274200@www.enbix.ca
SUMMARY:Smart Sustainable Technology Showcase #1
DESCRIPTION:Join SSRIA virtually on April 15th at 4:00 PM MST for the next Smart Sustainable Technology Showcase\, a fast-paced session spotlighting the innovative technologies and processes shaping the future of Alberta’s building landscape. \nDesigned for the AEC industry and the broader innovation community\, the Showcase connects building owners\, operators\, designers\, engineers\, and construction professionals with companies developing solutions that reduce carbon in buildings. \n“A fast-paced and exciting mix of tech presenters and virtual networking. The session was well curated\, and the speakers knocked their presentations out of the park.”\n— Smart Sustainable Tech Showcase attendee\, BuildEx 2024 \nWhether you’re looking to discover emerging technologies\, connect directly with solution providers\, or find new ways to enhance your next building project\, this Showcase offers valuable insights and practical inspiration. \nDon’t miss the opportunity to learn firsthand about the innovations driving sustainable building forward.
URL:https://www.enbix.ca/events/smart-sustainable-technology-showcase-1/
LOCATION:zoom
CATEGORIES:Webinar
ATTACH;FMTTYPE=image/webp:https://www.enbix.ca/wp-content/uploads/2026/03/STS.webp
END:VEVENT
BEGIN:VEVENT
DTSTART;TZID=America/Edmonton:20260319T093000
DTEND;TZID=America/Edmonton:20260319T110000
DTSTAMP:20260421T115520
CREATED:20260316T143201Z
LAST-MODIFIED:20260316T143201Z
UID:10000240-1773912600-1773918000@www.enbix.ca
SUMMARY:Solar Sales: How to Do Right by Customers
DESCRIPTION:Solar is among the biggest investments someone will make for their home or business. Solar Alberta’s panel of industry experts will reflect on best practices in ethical solar sales and marketing\, and lessons learned over the years. \nJoin Solar Alberta on March 19 at 9:30 a.m. MT for this free webinar to make sure that you are doing everything you can to protect your company’s reputation and ensure customer satisfaction.
URL:https://www.enbix.ca/events/solar-sales-how-to-do-right-by-customers/
LOCATION:zoom
CATEGORIES:Webinar
ATTACH;FMTTYPE=image/webp:https://www.enbix.ca/wp-content/uploads/2026/03/Solar-Sales-How-to-Do-Right-by-Customers-4x5-1.webp
ORGANIZER;CN="Solar Alberta":MAILTO:stephanie@solaralberta.ca
END:VEVENT
BEGIN:VEVENT
DTSTART;TZID=America/Edmonton:20260121T110000
DTEND;TZID=America/Edmonton:20260121T123000
DTSTAMP:20260421T115520
CREATED:20260113T222518Z
LAST-MODIFIED:20260113T222518Z
UID:10000191-1768993200-1768998600@www.enbix.ca
SUMMARY:High Performance Series: Introduction to High Performance Building Standards and Programs
DESCRIPTION:Join Natasha Brooks from Building Efficiency Resources (BER)\, Brett Cass from the Canadian Home Builders’ Association (CHBA) and Michael Quast from the Passive House Canada for an informative webinar designed to help Energy Advisors better understand and communicate the differences between major high-performance building standards. This session will clarify the distinctions between CHBA Net Zero Homes\, Passive House certification\, and Phius standards\, and show how these programs can complement one another rather than compete. \nWhat You’ll Learn: \n\nAn introduction to high-performance building and why it matters\nAn overview of CHBA Net Zero\, Passive House\, and Phius certification programs\nHow these standards can work together as pathways to high performance\nWhen to recommend one certification over another for your clients\nMembership requirements and upcoming training opportunities\n\nThis webinar is designed for Energy Advisors who want to better support their clients by understanding these certification options and helping builders and homeowners choose the right path for their projects \nRegistration\nCACEA Members: Free (CEC = 1.5)\nNon-members: $25 plus tax
URL:https://www.enbix.ca/events/high-performance-series-introduction-to-high-performance-building-standards-and-programs/
LOCATION:zoom
CATEGORIES:Webinar
ORGANIZER;CN="Canadian Association of Consulting Energy Advisors":MAILTO:info@cacea.ca
END:VEVENT
END:VCALENDAR