BEGIN:VCALENDAR
VERSION:2.0
PRODID:-//ENBIX - ECPv6.15.17.1//NONSGML v1.0//EN
CALSCALE:GREGORIAN
METHOD:PUBLISH
X-ORIGINAL-URL:https://www.enbix.ca
X-WR-CALDESC:Events for ENBIX
REFRESH-INTERVAL;VALUE=DURATION:PT1H
X-Robots-Tag:noindex
X-PUBLISHED-TTL:PT1H
BEGIN:VTIMEZONE
TZID:America/Edmonton
BEGIN:DAYLIGHT
TZOFFSETFROM:-0700
TZOFFSETTO:-0600
TZNAME:MDT
DTSTART:20250309T090000
END:DAYLIGHT
BEGIN:STANDARD
TZOFFSETFROM:-0600
TZOFFSETTO:-0700
TZNAME:MST
DTSTART:20251102T080000
END:STANDARD
BEGIN:DAYLIGHT
TZOFFSETFROM:-0700
TZOFFSETTO:-0600
TZNAME:MDT
DTSTART:20260308T090000
END:DAYLIGHT
BEGIN:STANDARD
TZOFFSETFROM:-0600
TZOFFSETTO:-0700
TZNAME:MST
DTSTART:20261101T080000
END:STANDARD
BEGIN:DAYLIGHT
TZOFFSETFROM:-0700
TZOFFSETTO:-0600
TZNAME:MDT
DTSTART:20270314T090000
END:DAYLIGHT
BEGIN:STANDARD
TZOFFSETFROM:-0600
TZOFFSETTO:-0700
TZNAME:MST
DTSTART:20271107T080000
END:STANDARD
END:VTIMEZONE
BEGIN:VEVENT
DTSTART;TZID=America/Edmonton:20260202T120000
DTEND;TZID=America/Edmonton:20260202T130000
DTSTAMP:20260423T040000
CREATED:20260114T170550Z
LAST-MODIFIED:20260127T211356Z
UID:10000193-1770033600-1770037200@www.enbix.ca
SUMMARY:Getting to Zero Research Project: Webinar
DESCRIPTION:Join us for a virtual information session to learn more about Alberta Ecotrust’s newly launched Getting to Zero Research Project. The session is from 12–1 pm on Monday\, February 2nd.\n\n\n\nThis session will cover: \n\nA project overview\nProject streams\nEligibility\nRequirements and how to submit an expression of interest\nQ&A period\n\nAbout the project:\nIn Alberta\, the building industry plays a significant role in reducing emissions by shaping how homes are designed\, built and powered across the province. This project works with the industry to turn real-world data from low or zero-emissions buildings into practical insights that can be applied across Alberta. \nWe are working with designers\, builders\, consultants\, contractors\, developers and homebuilders of Part 9 residential buildings across Alberta to gather and purchase data from their low or zero-emissions projects. The project includes three participation streams\, with payments of up to $8\,000\, $10\,000 and $25\,000 available for data collection. Thank you to the City of Calgary\, City of Edmonton\, RBC Foundation and Peter Gilgan Foundation for their generous support of this project. \nVisit our website to learn more\, review eligibility\, and contact us with questions.
URL:https://www.enbix.ca/events/getting-to-zero-research-project-webinar/
CATEGORIES:Webinar
ATTACH;FMTTYPE=image/webp:https://www.enbix.ca/wp-content/uploads/2026/01/Getting-to-Zero-Webinar-1.webp
ORGANIZER;CN="Alberta Ecotrust Foundation":MAILTO:info@albertaecotrust.com
END:VEVENT
END:VCALENDAR